BEGIN:VCALENDAR
VERSION:2.0
PRODID:-//3sEuskadi - ECPv6.6.4//NONSGML v1.0//EN
CALSCALE:GREGORIAN
METHOD:PUBLISH
X-WR-CALNAME:3sEuskadi
X-ORIGINAL-URL:https://3seuskadi.eus
X-WR-CALDESC:Eventos para 3sEuskadi
REFRESH-INTERVAL;VALUE=DURATION:PT1H
X-Robots-Tag:noindex
X-PUBLISHED-TTL:PT1H
BEGIN:VTIMEZONE
TZID:Europe/Madrid
BEGIN:DAYLIGHT
TZOFFSETFROM:+0100
TZOFFSETTO:+0200
TZNAME:CEST
DTSTART:20260329T010000
END:DAYLIGHT
BEGIN:STANDARD
TZOFFSETFROM:+0200
TZOFFSETTO:+0100
TZNAME:CET
DTSTART:20261025T010000
END:STANDARD
END:VTIMEZONE
BEGIN:VEVENT
DTSTART;TZID=Europe/Madrid:20260420T080000
DTEND;TZID=Europe/Madrid:20260420T170000
DTSTAMP:20260420T025529
CREATED:20260416T111852Z
LAST-MODIFIED:20260416T111852Z
UID:69997-1776672000-1776704400@3seuskadi.eus
SUMMARY:Silver Film Festival
DESCRIPTION:
URL:https://3seuskadi.eus/evento/silver-film-festival/
CATEGORIES:JORNADAS. CONGRESOS. CONFERENCIAS. FERIAS. EXPOSICIONES
ORGANIZER;CN="Fundaci%C3%B3n EDE Fundazioa":MAILTO:ede@fundacionede.org
END:VEVENT
END:VCALENDAR